BEGIN:VCALENDAR
VERSION:2.0
PRODID:-//VLC: Vertical Lift Consortium - ECPv6.15.18//NONSGML v1.0//EN
CALSCALE:GREGORIAN
METHOD:PUBLISH
X-WR-CALNAME:VLC: Vertical Lift Consortium
X-ORIGINAL-URL:https://www.verticalliftconsortium.org
X-WR-CALDESC:Events for VLC: Vertical Lift Consortium
REFRESH-INTERVAL;VALUE=DURATION:PT1H
X-Robots-Tag:noindex
X-PUBLISHED-TTL:PT1H
BEGIN:VTIMEZONE
TZID:UTC
BEGIN:STANDARD
TZOFFSETFROM:+0000
TZOFFSETTO:+0000
TZNAME:UTC
DTSTART:20250101T000000
END:STANDARD
END:VTIMEZONE
BEGIN:VEVENT
DTSTART;VALUE=DATE:20260505
DTEND;VALUE=DATE:20260507
DTSTAMP:20260420T001952
CREATED:20260306T135533Z
LAST-MODIFIED:20260306T135533Z
UID:10000039-1777939200-1778111999@www.verticalliftconsortium.org
SUMMARY:AMTC 26-03 Collaboration Event - May 5-6\, 2026
DESCRIPTION:Please plan to join us for the AMTC- 26-03 Collaboration Event May 5 – 6\, 2026 at the Von Braun Center in Huntsville\, AL. While we do anticipate an in-person event\, please be aware this is subject to change.  The Collaboration Event agenda will include a program update\, 26-03 requirements review\, one-on-one opportunities and a hosted mixer. The event will be open to all AMTC members and US Government representatives. Registration and additional logistical information will be provided soon. \nFor any questions\, please contact amtc@ati.org
URL:https://www.verticalliftconsortium.org/event/amtc-26-03-collaboration-event-may-5-6-2026/
LOCATION:Von Braun Center\, 700 Monroe St SW\, Huntsville\, AL\, 35801
ATTACH;FMTTYPE=image/png:https://www.verticalliftconsortium.org/wp-content/uploads/2022/06/AMTC_SMALL.png
END:VEVENT
BEGIN:VEVENT
DTSTART;VALUE=DATE:20260922
DTEND;VALUE=DATE:20260925
DTSTAMP:20260420T001952
CREATED:20260202T151947Z
LAST-MODIFIED:20260213T170157Z
UID:10000037-1790035200-1790294399@www.verticalliftconsortium.org
SUMMARY:MOSA Industry & Government Summit & Expo 2026
DESCRIPTION:VLC members\, are eligible for complimentary registration and discounted exhibit space at the 2026 MOSA Industry & Government Summit\, taking place September 22–24\, 2026 in National Harbor\, MD. \n \n 
URL:https://www.verticalliftconsortium.org/event/mosa-industry-government-summit-expo-2026/
LOCATION:Gaylord Convention Center\, National Harbor\, MD\, 201 Waterfront Street\, National Harbor\, MD\, United States
ATTACH;FMTTYPE=image/jpeg:https://www.verticalliftconsortium.org/wp-content/uploads/2026/02/MOSA-Industry-and-Government-Summit-Expo-September-22-24-2026-National-Harbor-MD-Gaylord-Convention-Center.jpg
END:VEVENT
END:VCALENDAR